Name | Last modified | Size | Description | |
---|---|---|---|---|
Parent Directory | - | |||
buildsrc-out.txt | 06-Jul-2024 00:44 | 936 | ||
buildsrc-summary.dcf | 06-Jul-2024 00:44 | 330 | ||
checksrc-out.txt | 05-Jul-2024 00:45 | 3.5K | ||
checksrc-summary.dcf | 05-Jul-2024 00:45 | 425 | ||
install-out.txt | 06-Jul-2024 00:44 | 660 | ||
install-summary.dcf | 06-Jul-2024 00:44 | 259 | ||