Name | Last modified | Size | Description | |
---|---|---|---|---|
Parent Directory | - | |||
install-summary.dcf | 28-Jun-2024 00:37 | 252 | ||
install-out.txt | 28-Jun-2024 00:37 | 943 | ||
checksrc-summary.dcf | 28-Jun-2024 00:37 | 400 | ||
checksrc-out.txt | 28-Jun-2024 00:37 | 3.3K | ||
buildsrc-summary.dcf | 28-Jun-2024 00:37 | 412 | ||
buildsrc-out.txt | 28-Jun-2024 00:37 | 857 | ||