Name | Last modified | Size | Description | |
---|---|---|---|---|
Parent Directory | - | |||
palomino4/ | 12-Jun-2024 04:40 | - | ||
merida1/ | 12-Jun-2024 04:42 | - | ||
kjohnson1/ | 12-Jun-2024 04:43 | - | ||
kjohnson3/ | 09-Jul-2024 00:43 | - | ||
kunpeng2/ | 09-Jul-2024 00:45 | - | ||
info.dcf | 12-Jul-2024 00:59 | 276 | ||
nebbiolo2/ | 12-Jul-2024 00:59 | - | ||
palomino6/ | 12-Jul-2024 01:00 | - | ||
lconway/ | 12-Jul-2024 01:01 | - | ||