Name | Last modified | Size | Description | |
---|---|---|---|---|
Parent Directory | - | |||
buildsrc-out.txt | 17-Jul-2024 00:39 | 1.1K | ||
buildsrc-summary.dcf | 17-Jul-2024 00:39 | 419 | ||
checksrc-out.txt | 17-Jul-2024 00:39 | 3.4K | ||
checksrc-summary.dcf | 17-Jul-2024 00:39 | 408 | ||
install-out.txt | 17-Jul-2024 00:39 | 957 | ||
install-summary.dcf | 17-Jul-2024 00:39 | 256 | ||