Name | Last modified | Size | Description | |
---|---|---|---|---|
Parent Directory | - | |||
checksrc-out.txt | 17-Jul-2024 00:43 | 3.4K | ||
buildbin-out.txt | 17-Jul-2024 00:43 | 1.1K | ||
buildsrc-out.txt | 17-Jul-2024 00:43 | 1.1K | ||
install-out.txt | 17-Jul-2024 00:43 | 1.0K | ||
buildbin-summary.dcf | 17-Jul-2024 00:43 | 520 | ||
checksrc-summary.dcf | 17-Jul-2024 00:43 | 437 | ||
buildsrc-summary.dcf | 17-Jul-2024 00:43 | 422 | ||
install-summary.dcf | 17-Jul-2024 00:43 | 265 | ||