Name | Last modified | Size | Description | |
---|---|---|---|---|
Parent Directory | - | |||
buildbin-out.txt | 12-Jun-2024 04:43 | 1.1K | ||
buildbin-summary.dcf | 12-Jun-2024 04:43 | 521 | ||
buildsrc-out.txt | 12-Jun-2024 04:43 | 1.1K | ||
buildsrc-summary.dcf | 12-Jun-2024 04:43 | 423 | ||
checksrc-out.txt | 12-Jun-2024 04:43 | 3.4K | ||
checksrc-summary.dcf | 12-Jun-2024 04:43 | 438 | ||
install-out.txt | 12-Jun-2024 04:43 | 1.0K | ||
install-summary.dcf | 12-Jun-2024 04:43 | 266 | ||