Name | Last modified | Size | Description | |
---|---|---|---|---|
Parent Directory | - | |||
install-summary.dcf | 25-Jul-2024 00:41 | 268 | ||
install-out.txt | 25-Jul-2024 00:41 | 15K | ||
checksrc-summary.dcf | 25-Jul-2024 00:41 | 440 | ||
checksrc-out.txt | 25-Jul-2024 00:41 | 4.1K | ||
buildsrc-summary.dcf | 25-Jul-2024 00:41 | 424 | ||
buildsrc-out.txt | 25-Jul-2024 00:41 | 905 | ||
buildbin-summary.dcf | 25-Jul-2024 00:41 | 525 | ||
buildbin-out.txt | 25-Jul-2024 00:41 | 17K | ||