Name | Last modified | Size | Description | |
---|---|---|---|---|
Parent Directory | - | |||
buildbin-out.txt | 20-Jun-2024 01:12 | 17K | ||
buildbin-summary.dcf | 20-Jun-2024 01:12 | 524 | ||
buildsrc-out.txt | 20-Jun-2024 01:12 | 905 | ||
buildsrc-summary.dcf | 20-Jun-2024 01:12 | 424 | ||
checksrc-out.txt | 20-Jun-2024 01:12 | 3.9K | ||
checksrc-summary.dcf | 20-Jun-2024 01:12 | 439 | ||
install-out.txt | 20-Jun-2024 01:12 | 15K | ||
install-summary.dcf | 20-Jun-2024 01:12 | 267 | ||