Name | Last modified | Size | Description | |
---|---|---|---|---|
Parent Directory | - | |||
palomino4/ | 12-Jun-2024 04:40 | - | ||
nebbiolo2/ | 21-Jun-2024 01:14 | - | ||
merida1/ | 12-Jun-2024 04:42 | - | ||
lconway/ | 21-Jun-2024 01:15 | - | ||
kunpeng2/ | 16-May-2024 02:46 | - | ||
kjohnson3/ | 20-Jun-2024 01:12 | - | ||
kjohnson1/ | 12-Jun-2024 04:43 | - | ||
info.dcf | 21-Jun-2024 01:14 | 268 | ||