Name | Last modified | Size | Description | |
---|---|---|---|---|
Parent Directory | - | |||
install-summary.dcf | 13-Jul-2024 01:30 | 264 | ||
checksrc-summary.dcf | 13-Jul-2024 01:30 | 424 | ||
buildsrc-summary.dcf | 13-Jul-2024 01:30 | 430 | ||
buildsrc-out.txt | 13-Jul-2024 01:30 | 841 | ||
install-out.txt | 13-Jul-2024 01:30 | 961 | ||
checksrc-out.txt | 13-Jul-2024 01:30 | 3.2K | ||