Index of /checkResults/devel/bioc-LATEST/igvShiny/raw-results/palomino4
Name
Last modified
Size
Description
Parent Directory
-
buildsrc-out.txt
12-Jun-2024 04:40
1.0K
buildsrc-summary.dcf
12-Jun-2024 04:40
370
install-out.txt
12-Jun-2024 04:40
965
install-summary.dcf
12-Jun-2024 04:40
269