Name | Last modified | Size | Description | |
---|---|---|---|---|
Parent Directory | - | |||
buildsrc-out.txt | 29-Jun-2024 00:37 | 814 | ||
buildsrc-summary.dcf | 29-Jun-2024 00:37 | 410 | ||
checksrc-out.txt | 29-Jun-2024 00:37 | 3.7K | ||
checksrc-summary.dcf | 29-Jun-2024 00:37 | 397 | ||
install-out.txt | 29-Jun-2024 00:37 | 932 | ||
install-summary.dcf | 29-Jun-2024 00:37 | 250 | ||