Name | Last modified | Size | Description | |
---|---|---|---|---|
Parent Directory | - | |||
install-summary.dcf | 06-Jul-2024 00:44 | 246 | ||
install-out.txt | 06-Jul-2024 00:44 | 621 | ||
checksrc-summary.dcf | 05-Jul-2024 00:44 | 399 | ||
checksrc-out.txt | 05-Jul-2024 00:44 | 3.3K | ||
buildsrc-summary.dcf | 09-Jul-2024 00:45 | 317 | ||
buildsrc-out.txt | 09-Jul-2024 00:45 | 869 | ||