Name | Last modified | Size | Description | |
---|---|---|---|---|
Parent Directory | - | |||
install-summary.dcf | 06-Jul-2024 00:40 | 280 | ||
install-out.txt | 06-Jul-2024 00:40 | 958 | ||
checksrc-summary.dcf | 06-Jul-2024 00:40 | 470 | ||
checksrc-out.txt | 06-Jul-2024 00:40 | 2.8K | ||
buildsrc-summary.dcf | 06-Jul-2024 00:40 | 469 | ||
buildsrc-out.txt | 06-Jul-2024 00:40 | 786 | ||
buildbin-summary.dcf | 06-Jul-2024 00:40 | 539 | ||
buildbin-out.txt | 06-Jul-2024 00:40 | 1.1K | ||