Name | Last modified | Size | Description | |
---|---|---|---|---|
Parent Directory | - | |||
buildbin-out.txt | 06-Jul-2024 00:40 | 3.2K | ||
buildbin-summary.dcf | 06-Jul-2024 00:40 | 514 | ||
checksrc-summary.dcf | 06-Jul-2024 00:40 | 454 | ||
checksrc-out.txt | 06-Jul-2024 00:40 | 4.6K | ||
buildsrc-summary.dcf | 06-Jul-2024 00:40 | 454 | ||
buildsrc-out.txt | 06-Jul-2024 00:40 | 909 | ||
install-summary.dcf | 06-Jul-2024 00:40 | 272 | ||
install-out.txt | 06-Jul-2024 00:40 | 3.1K | ||