Name | Last modified | Size | Description | |
---|---|---|---|---|
Parent Directory | - | |||
buildbin-out.txt | 06-Jul-2024 00:41 | 7.1K | ||
checksrc-out.txt | 06-Jul-2024 00:41 | 4.6K | ||
install-out.txt | 06-Jul-2024 00:41 | 3.6K | ||
buildsrc-out.txt | 06-Jul-2024 00:41 | 882 | ||
buildbin-summary.dcf | 06-Jul-2024 00:41 | 524 | ||
checksrc-summary.dcf | 06-Jul-2024 00:41 | 445 | ||
buildsrc-summary.dcf | 06-Jul-2024 00:41 | 424 | ||
install-summary.dcf | 06-Jul-2024 00:41 | 267 | ||