Index of /checkResults/devel/bioc-LATEST/gpuMagic/raw-results/lconway
Name
Last modified
Size
Description
Parent Directory
-
buildsrc-out.txt
29-Jun-2024 00:39
5.4K
buildsrc-summary.dcf
29-Jun-2024 00:39
345
install-out.txt
29-Jun-2024 00:39
5.2K
install-summary.dcf
29-Jun-2024 00:39
274