Index of /checkResults/devel/bioc-LATEST/gpuMagic/raw-results/kjohnson3
Name
Last modified
Size
Description
Parent Directory
-
buildsrc-out.txt
29-Jun-2024 00:40
5.6K
buildsrc-summary.dcf
29-Jun-2024 00:40
344
install-out.txt
29-Jun-2024 00:40
5.3K
install-summary.dcf
29-Jun-2024 00:40
273