Index of /checkResults/devel/bioc-LATEST/globaltest/raw-results/kjohnson3
Name
Last modified
Size
Description
Parent Directory
-
install-summary.dcf
29-Jun-2024 00:40
274
buildsrc-summary.dcf
29-Jun-2024 00:40
356
buildsrc-out.txt
29-Jun-2024 00:40
662
install-out.txt
29-Jun-2024 00:40
1.0K