Name | Last modified | Size | Description | |
---|---|---|---|---|
Parent Directory | - | |||
checksrc-out.txt | 17-Jul-2024 00:39 | 3.6K | ||
install-out.txt | 17-Jul-2024 00:39 | 972 | ||
buildsrc-out.txt | 17-Jul-2024 00:39 | 829 | ||
buildsrc-summary.dcf | 17-Jul-2024 00:39 | 422 | ||
checksrc-summary.dcf | 17-Jul-2024 00:39 | 412 | ||
install-summary.dcf | 17-Jul-2024 00:39 | 257 | ||