Name | Last modified | Size | Description | |
---|---|---|---|---|
Parent Directory | - | |||
buildbin-summary.dcf | 17-Jul-2024 00:42 | 527 | ||
buildbin-out.txt | 17-Jul-2024 00:42 | 1.2K | ||
checksrc-summary.dcf | 17-Jul-2024 00:41 | 442 | ||
checksrc-out.txt | 17-Jul-2024 00:41 | 3.7K | ||
buildsrc-out.txt | 17-Jul-2024 00:41 | 815 | ||
buildsrc-summary.dcf | 17-Jul-2024 00:41 | 426 | ||
install-summary.dcf | 17-Jul-2024 00:41 | 267 | ||
install-out.txt | 17-Jul-2024 00:41 | 1.0K | ||