Name | Last modified | Size | Description | |
---|---|---|---|---|
Parent Directory | - | |||
install-out.txt | 29-Jun-2024 00:37 | 946 | ||
install-summary.dcf | 29-Jun-2024 00:37 | 255 | ||
buildsrc-out.txt | 29-Jun-2024 00:37 | 862 | ||
buildsrc-summary.dcf | 29-Jun-2024 00:37 | 418 | ||
checksrc-summary.dcf | 29-Jun-2024 00:37 | 406 | ||
checksrc-out.txt | 29-Jun-2024 00:37 | 3.2K | ||