Name | Last modified | Size | Description | |
---|---|---|---|---|
Parent Directory | - | |||
install-summary.dcf | 28-Jun-2024 00:38 | 263 | ||
install-out.txt | 28-Jun-2024 00:38 | 5.0K | ||
checksrc-summary.dcf | 28-Jun-2024 00:38 | 437 | ||
checksrc-out.txt | 28-Jun-2024 00:38 | 7.3K | ||
buildsrc-summary.dcf | 28-Jun-2024 00:38 | 418 | ||
buildsrc-out.txt | 28-Jun-2024 00:38 | 834 | ||
buildbin-summary.dcf | 28-Jun-2024 00:38 | 512 | ||
buildbin-out.txt | 28-Jun-2024 00:38 | 6.8K | ||