Name | Last modified | Size | Description | |
---|---|---|---|---|
Parent Directory | - | |||
install-summary.dcf | 16-May-2024 02:46 | 264 | ||
buildsrc-summary.dcf | 16-May-2024 02:46 | 419 | ||
checksrc-summary.dcf | 16-May-2024 02:46 | 438 | ||
buildsrc-out.txt | 16-May-2024 02:46 | 835 | ||
install-out.txt | 16-May-2024 02:46 | 2.5K | ||
checksrc-out.txt | 16-May-2024 02:46 | 7.0K | ||