Name | Last modified | Size | Description | |
---|---|---|---|---|
Parent Directory | - | |||
install-summary.dcf | 28-Jun-2024 00:39 | 262 | ||
buildsrc-summary.dcf | 28-Jun-2024 00:39 | 417 | ||
checksrc-summary.dcf | 28-Jun-2024 00:39 | 437 | ||
buildbin-summary.dcf | 28-Jun-2024 00:39 | 511 | ||
buildsrc-out.txt | 28-Jun-2024 00:39 | 834 | ||
install-out.txt | 28-Jun-2024 00:39 | 5.6K | ||
buildbin-out.txt | 28-Jun-2024 00:39 | 7.4K | ||
checksrc-out.txt | 28-Jun-2024 00:39 | 7.8K | ||