Name | Last modified | Size | Description | |
---|---|---|---|---|
Parent Directory | - | |||
install-summary.dcf | 12-Jun-2024 04:43 | 263 | ||
buildsrc-summary.dcf | 12-Jun-2024 04:43 | 418 | ||
checksrc-summary.dcf | 12-Jun-2024 04:43 | 437 | ||
buildbin-summary.dcf | 12-Jun-2024 04:43 | 512 | ||
buildsrc-out.txt | 12-Jun-2024 04:43 | 834 | ||
install-out.txt | 12-Jun-2024 04:43 | 5.6K | ||
buildbin-out.txt | 12-Jun-2024 04:43 | 7.4K | ||
checksrc-out.txt | 12-Jun-2024 04:43 | 7.8K | ||