Name | Last modified | Size | Description | |
---|---|---|---|---|
Parent Directory | - | |||
buildbin-summary.dcf | 17-Jul-2024 00:40 | 531 | ||
buildbin-out.txt | 17-Jul-2024 00:40 | 9.3K | ||
checksrc-out.txt | 17-Jul-2024 00:40 | 6.9K | ||
checksrc-summary.dcf | 17-Jul-2024 00:40 | 465 | ||
buildsrc-summary.dcf | 17-Jul-2024 00:40 | 465 | ||
buildsrc-out.txt | 17-Jul-2024 00:40 | 914 | ||
install-out.txt | 17-Jul-2024 00:40 | 9.2K | ||
install-summary.dcf | 17-Jul-2024 00:40 | 278 | ||