Name | Last modified | Size | Description | |
---|---|---|---|---|
Parent Directory | - | |||
checksrc-out.txt | 31-May-2024 01:35 | 6.9K | ||
checksrc-summary.dcf | 31-May-2024 01:35 | 453 | ||
buildbin-out.txt | 31-May-2024 01:35 | 9.2K | ||
buildbin-summary.dcf | 31-May-2024 01:35 | 525 | ||
install-summary.dcf | 12-Jun-2024 04:40 | 272 | ||
install-out.txt | 12-Jun-2024 04:40 | 9.1K | ||
buildsrc-summary.dcf | 12-Jun-2024 04:40 | 374 | ||
buildsrc-out.txt | 12-Jun-2024 04:40 | 5.2K | ||