Name | Last modified | Size | Description | |
---|---|---|---|---|
Parent Directory | - | |||
buildbin-out.txt | 31-May-2024 01:36 | 9.6K | ||
install-out.txt | 12-Jun-2024 04:41 | 9.4K | ||
checksrc-out.txt | 31-May-2024 01:36 | 7.1K | ||
buildsrc-out.txt | 12-Jun-2024 04:41 | 5.2K | ||
buildbin-summary.dcf | 31-May-2024 01:36 | 540 | ||
checksrc-summary.dcf | 31-May-2024 01:36 | 451 | ||
buildsrc-summary.dcf | 12-Jun-2024 04:41 | 347 | ||
install-summary.dcf | 12-Jun-2024 04:41 | 273 | ||