Name | Last modified | Size | Description | |
---|---|---|---|---|
Parent Directory | - | |||
install-summary.dcf | 17-Jul-2024 00:42 | 272 | ||
install-out.txt | 17-Jul-2024 00:42 | 9.4K | ||
checksrc-summary.dcf | 17-Jul-2024 00:42 | 450 | ||
checksrc-out.txt | 17-Jul-2024 00:42 | 7.1K | ||
buildsrc-summary.dcf | 17-Jul-2024 00:42 | 432 | ||
buildsrc-out.txt | 17-Jul-2024 00:42 | 886 | ||
buildbin-summary.dcf | 17-Jul-2024 00:42 | 540 | ||
buildbin-out.txt | 17-Jul-2024 00:42 | 9.6K | ||