Name | Last modified | Size | Description | |
---|---|---|---|---|
Parent Directory | - | |||
install-summary.dcf | 06-Jul-2024 00:44 | 252 | ||
buildsrc-summary.dcf | 09-Jul-2024 00:45 | 323 | ||
checksrc-summary.dcf | 05-Jul-2024 00:44 | 411 | ||
install-out.txt | 06-Jul-2024 00:44 | 786 | ||
buildsrc-out.txt | 09-Jul-2024 00:45 | 929 | ||
checksrc-out.txt | 05-Jul-2024 00:44 | 6.9K | ||