Name | Last modified | Size | Description | |
---|---|---|---|---|
Parent Directory | - | |||
buildbin-out.txt | 17-Jul-2024 00:43 | 9.6K | ||
buildbin-summary.dcf | 17-Jul-2024 00:43 | 539 | ||
buildsrc-out.txt | 17-Jul-2024 00:43 | 886 | ||
buildsrc-summary.dcf | 17-Jul-2024 00:43 | 431 | ||
checksrc-out.txt | 17-Jul-2024 00:43 | 6.9K | ||
checksrc-summary.dcf | 17-Jul-2024 00:43 | 450 | ||
install-out.txt | 17-Jul-2024 00:43 | 9.4K | ||
install-summary.dcf | 17-Jul-2024 00:43 | 272 | ||