Name | Last modified | Size | Description | |
---|---|---|---|---|
Parent Directory | - | |||
checksrc-out.txt | 17-Jul-2024 00:40 | 3.3K | ||
buildbin-out.txt | 17-Jul-2024 00:40 | 1.1K | ||
install-out.txt | 17-Jul-2024 00:40 | 1.0K | ||
buildsrc-out.txt | 17-Jul-2024 00:40 | 854 | ||
buildbin-summary.dcf | 17-Jul-2024 00:40 | 530 | ||
checksrc-summary.dcf | 17-Jul-2024 00:40 | 465 | ||
buildsrc-summary.dcf | 17-Jul-2024 00:40 | 464 | ||
install-summary.dcf | 17-Jul-2024 00:40 | 277 | ||