Index of /checkResults/devel/bioc-LATEST/gDRimport/raw-results/lconway
Name
Last modified
Size
Description
Parent Directory
-
buildsrc-out.txt
28-Jun-2024 00:38
1.8K
buildsrc-summary.dcf
28-Jun-2024 00:38
346
install-out.txt
28-Jun-2024 00:38
1.0K
install-summary.dcf
28-Jun-2024 00:38
272