Name | Last modified | Size | Description | |
---|---|---|---|---|
Parent Directory | - | |||
install-summary.dcf | 27-Jun-2024 00:37 | 254 | ||
checksrc-summary.dcf | 27-Jun-2024 00:37 | 404 | ||
buildsrc-summary.dcf | 27-Jun-2024 00:37 | 416 | ||
buildsrc-out.txt | 27-Jun-2024 00:37 | 821 | ||
install-out.txt | 27-Jun-2024 00:37 | 946 | ||
checksrc-out.txt | 27-Jun-2024 00:37 | 3.7K | ||