Name | Last modified | Size | Description | |
---|---|---|---|---|
Parent Directory | - | |||
buildsrc-out.txt | 27-Jun-2024 00:37 | 838 | ||
buildsrc-summary.dcf | 27-Jun-2024 00:37 | 428 | ||
checksrc-out.txt | 27-Jun-2024 00:37 | 5.3K | ||
checksrc-summary.dcf | 27-Jun-2024 00:37 | 421 | ||
install-out.txt | 27-Jun-2024 00:37 | 958 | ||
install-summary.dcf | 27-Jun-2024 00:37 | 262 | ||