Name | Last modified | Size | Description | |
---|---|---|---|---|
Parent Directory | - | |||
buildsrc-out.txt | 29-Jun-2024 00:37 | 818 | ||
buildsrc-summary.dcf | 29-Jun-2024 00:37 | 412 | ||
checksrc-out.txt | 29-Jun-2024 00:37 | 4.5K | ||
checksrc-summary.dcf | 29-Jun-2024 00:37 | 402 | ||
install-out.txt | 29-Jun-2024 00:37 | 943 | ||
install-summary.dcf | 29-Jun-2024 00:37 | 253 | ||