Name | Last modified | Size | Description | |
---|---|---|---|---|
Parent Directory | - | |||
install-summary.dcf | 20-Jun-2024 01:11 | 296 | ||
buildsrc-summary.dcf | 20-Jun-2024 01:11 | 469 | ||
checksrc-summary.dcf | 20-Jun-2024 01:11 | 505 | ||
buildbin-summary.dcf | 20-Jun-2024 01:11 | 613 | ||
buildsrc-out.txt | 20-Jun-2024 01:11 | 935 | ||
install-out.txt | 20-Jun-2024 01:11 | 1.0K | ||
buildbin-out.txt | 20-Jun-2024 01:11 | 1.3K | ||
checksrc-out.txt | 20-Jun-2024 01:11 | 3.9K | ||