Name | Last modified | Size | Description | |
---|---|---|---|---|
Parent Directory | - | |||
install-summary.dcf | 12-Jul-2024 00:59 | 253 | ||
install-out.txt | 12-Jul-2024 00:59 | 1.0K | ||
checksrc-summary.dcf | 11-Jul-2024 01:07 | 404 | ||
checksrc-out.txt | 11-Jul-2024 01:07 | 3.4K | ||
buildsrc-summary.dcf | 12-Jul-2024 00:59 | 334 | ||
buildsrc-out.txt | 12-Jul-2024 00:59 | 1.2K | ||