Name | Last modified | Size | Description | |
---|---|---|---|---|
Parent Directory | - | |||
checksrc-out.txt | 13-Jul-2024 01:29 | 3.4K | ||
install-out.txt | 13-Jul-2024 01:29 | 961 | ||
buildsrc-out.txt | 13-Jul-2024 01:29 | 905 | ||
buildsrc-summary.dcf | 13-Jul-2024 01:29 | 431 | ||
checksrc-summary.dcf | 13-Jul-2024 01:29 | 425 | ||
install-summary.dcf | 13-Jul-2024 01:29 | 264 | ||