Name | Last modified | Size | Description | |
---|---|---|---|---|
Parent Directory | - | |||
install-out.txt | 17-Jul-2024 00:39 | 12K | ||
install-summary.dcf | 17-Jul-2024 00:39 | 266 | ||
buildsrc-summary.dcf | 17-Jul-2024 00:39 | 433 | ||
buildsrc-out.txt | 17-Jul-2024 00:39 | 938 | ||
checksrc-out.txt | 17-Jul-2024 00:39 | 4.5K | ||
checksrc-summary.dcf | 17-Jul-2024 00:39 | 428 | ||