Name | Last modified | Size | Description | |
---|---|---|---|---|
Parent Directory | - | |||
buildbin-out.txt | 12-Jun-2024 04:41 | 6.6K | ||
buildbin-summary.dcf | 12-Jun-2024 04:41 | 551 | ||
buildsrc-out.txt | 12-Jun-2024 04:41 | 924 | ||
buildsrc-summary.dcf | 12-Jun-2024 04:41 | 437 | ||
checksrc-out.txt | 12-Jun-2024 04:41 | 4.5K | ||
checksrc-summary.dcf | 12-Jun-2024 04:41 | 458 | ||
install-out.txt | 12-Jun-2024 04:41 | 2.9K | ||
install-summary.dcf | 12-Jun-2024 04:41 | 276 | ||