Name | Last modified | Size | Description | |
---|---|---|---|---|
Parent Directory | - | |||
buildsrc-out.txt | 09-Jul-2024 00:44 | 902 | ||
buildsrc-summary.dcf | 09-Jul-2024 00:44 | 416 | ||
checksrc-out.txt | 09-Jul-2024 00:44 | 4.5K | ||
checksrc-summary.dcf | 09-Jul-2024 00:44 | 419 | ||
install-out.txt | 07-Jul-2024 00:44 | 11K | ||
install-summary.dcf | 07-Jul-2024 00:44 | 254 | ||