Name | Last modified | Size | Description | |
---|---|---|---|---|
Parent Directory | - | |||
install-summary.dcf | 06-Jul-2024 00:41 | 274 | ||
install-out.txt | 06-Jul-2024 00:41 | 3.5K | ||
checksrc-summary.dcf | 04-Jul-2024 00:41 | 454 | ||
checksrc-out.txt | 04-Jul-2024 00:41 | 3.7K | ||
buildsrc-summary.dcf | 06-Jul-2024 00:41 | 349 | ||
buildsrc-out.txt | 06-Jul-2024 00:41 | 1.2K | ||
buildbin-summary.dcf | 04-Jul-2024 00:41 | 543 | ||
buildbin-out.txt | 04-Jul-2024 00:41 | 5.6K | ||