Name | Last modified | Size | Description | |
---|---|---|---|---|
Parent Directory | - | |||
install-summary.dcf | 12-Jun-2024 04:43 | 274 | ||
install-out.txt | 12-Jun-2024 04:43 | 3.5K | ||
checksrc-summary.dcf | 12-Jun-2024 04:43 | 454 | ||
checksrc-out.txt | 12-Jun-2024 04:43 | 3.8K | ||
buildsrc-summary.dcf | 12-Jun-2024 04:43 | 435 | ||
buildsrc-out.txt | 12-Jun-2024 04:43 | 857 | ||
buildbin-summary.dcf | 12-Jun-2024 04:43 | 545 | ||
buildbin-out.txt | 12-Jun-2024 04:43 | 5.6K | ||