Name | Last modified | Size | Description | |
---|---|---|---|---|
Parent Directory | - | |||
buildbin-out.txt | 13-Jul-2024 01:32 | 299K | ||
buildbin-summary.dcf | 13-Jul-2024 01:32 | 615 | ||
buildsrc-out.txt | 13-Jul-2024 01:32 | 965 | ||
buildsrc-summary.dcf | 13-Jul-2024 01:32 | 470 | ||
checksrc-out.txt | 13-Jul-2024 01:32 | 4.4K | ||
checksrc-summary.dcf | 13-Jul-2024 01:32 | 500 | ||
install-out.txt | 13-Jul-2024 01:32 | 295K | ||
install-summary.dcf | 13-Jul-2024 01:32 | 298 | ||