Name | Last modified | Size | Description | |
---|---|---|---|---|
Parent Directory | - | |||
buildbin-out.txt | 28-Jun-2024 00:39 | 300K | ||
buildbin-summary.dcf | 28-Jun-2024 00:39 | 615 | ||
buildsrc-out.txt | 28-Jun-2024 00:39 | 965 | ||
buildsrc-summary.dcf | 28-Jun-2024 00:39 | 470 | ||
checksrc-out.txt | 28-Jun-2024 00:39 | 4.3K | ||
checksrc-summary.dcf | 28-Jun-2024 00:39 | 500 | ||
install-out.txt | 28-Jun-2024 00:39 | 296K | ||
install-summary.dcf | 28-Jun-2024 00:39 | 298 | ||