Name | Last modified | Size | Description | |
---|---|---|---|---|
Parent Directory | - | |||
install-summary.dcf | 07-Jul-2024 00:44 | 277 | ||
install-out.txt | 07-Jul-2024 00:44 | 1.0K | ||
checksrc-summary.dcf | 09-Jul-2024 00:44 | 465 | ||
checksrc-out.txt | 09-Jul-2024 00:44 | 3.7K | ||
buildsrc-summary.dcf | 09-Jul-2024 00:44 | 450 | ||
buildsrc-out.txt | 09-Jul-2024 00:44 | 886 | ||