Name | Last modified | Size | Description | |
---|---|---|---|---|
Parent Directory | - | |||
buildbin-summary.dcf | 12-Jun-2024 04:43 | 563 | ||
buildbin-out.txt | 12-Jun-2024 04:43 | 1.2K | ||
checksrc-summary.dcf | 12-Jun-2024 04:43 | 466 | ||
checksrc-out.txt | 12-Jun-2024 04:43 | 3.5K | ||
buildsrc-summary.dcf | 12-Jun-2024 04:43 | 443 | ||
buildsrc-out.txt | 12-Jun-2024 04:43 | 902 | ||
install-out.txt | 12-Jun-2024 04:43 | 1.0K | ||
install-summary.dcf | 12-Jun-2024 04:43 | 280 | ||