Name | Last modified | Size | Description | |
---|---|---|---|---|
Parent Directory | - | |||
buildbin-out.txt | 05-Jul-2024 00:40 | 8.9K | ||
buildbin-summary.dcf | 05-Jul-2024 00:40 | 522 | ||
buildsrc-out.txt | 05-Jul-2024 00:40 | 877 | ||
buildsrc-summary.dcf | 05-Jul-2024 00:40 | 458 | ||
checksrc-out.txt | 05-Jul-2024 00:40 | 4.7K | ||
checksrc-summary.dcf | 05-Jul-2024 00:40 | 459 | ||
install-out.txt | 05-Jul-2024 00:40 | 8.8K | ||
install-summary.dcf | 05-Jul-2024 00:40 | 275 | ||